Workbook

Sheet Liquid Bulk 
A1: Tank | B1: INIT Sounding | C1: FINAL Sounding | D1: TOTAL beafor | E1: TOTAL after | F1: RECIVED
B2: Metres | C2: Metres | D2: mt | E2: mt | F2: mt | G2: mt
A3: FUEL OIL
A4: 14S | B4: 0.81 | C4: 0.81 | D4: =(IF(B4="","",VLOOKUP(B4,'Hydro Tables'!D3:E753,2)))*0.835 -> 73.04914 | E4: =(IF(C4="","",VLOOKUP(C4,'Hydro Tables'!D3:E753,2)))*0.835 -> 73.04914 | F4: =E4-D4 -> 0 | G4: =F4 -> 0
A5: 14p | B5: 0.01 | C5: 0.01 | D5: =(IF(B5="","",VLOOKUP(B5,'Hydro Tables'!D4:E754,2))*0.835) -> 0.845855 | E5: =(IF(C5="","",VLOOKUP(C5,'Hydro Tables'!D4:E754,2)))*0.835 -> 0.845855 | F5: =E5-D5 -> 0 | G5: =F5 -> 0
A6: Settling | B6: 2 | C6: 1.35 | D6: =(IF(B6="","", VLOOKUP(B6,'Hydro Tables'!G3:H273,2)))*0.835 -> 23.98955 | E6: =(IF(C6="","", VLOOKUP(C6,'Hydro Tables'!G3:H273,2)))*0.835 -> 16.19065 | F6: =E6-D6 -> -7.7989 | G6: =F6*0.835 -> -6.5120815
A7: Service | B7: 1.62 | C7: 1.62 | D7: =(IF(B7="","", VLOOKUP(B7,'Hydro Tables'!J3:K273,2)))*0.835 -> 16.191819 | E7: =(IF(C7="","", VLOOKUP(C7,'Hydro Tables'!J3:K273,2)))*0.835 -> 16.191819 | F7: =E7-D7 -> 0 | G7: =F7*0.835 -> 0
A8: TOTAL RECIVED | F8: =ABS(G4) -> 0
A9: TOTAL | F9: =E4+E6+E7 -> 105.43161
A10: POTABEL WATER
A11: 6S | B11: 5.12 | C11: 5.85 | D11: =IF(B11="","",VLOOKUP(B11,'Hydro Tables'!M3:N618,2)) -> 167.272 | E11: =IF(C11="","",VLOOKUP(C11,'Hydro Tables'!M3:N618,2)) -> 191.12 | F11: =E11-D11 -> 23.848 | S11: =D4+D6+D7 -> 113.23051
A12: 6P | B12: 1.53 | C12: 5.82 | D12: =IF(B12="","",VLOOKUP(B12,'Hydro Tables'!M3:N618,2)) -> 49.981 | E12: =IF(C12="","",VLOOKUP(C12,'Hydro Tables'!M3:N618,2)) -> 190.142 | F12: =E12-D12 -> 140.161
A13: TOTAL RECIVED | F13: =F11+F12 -> 164.009
A14: TOTAL | F14: =E11+E12 -> 381.262
A16: T 133 S STORAG
A17: IN | B17: FIN | C17: IN | D17: FIN | E17: TOTAL
A18: 53 | B18: 53 | C18: =IF(A18="","",VLOOKUP(A18,'Hydro Tables'!Y3:Z280,2)) -> 4695 | D18: =IF(B18="","",VLOOKUP(B18,'Hydro Tables'!Y3:Z280,2)) -> 4695 | E18: =D18-C18 -> 0
A20: T 133 S STORAG
A21: IN | B21: FIN | C21: IN | D21: FIN | E21: TOTAL
A22: 52 | B22: 52 | C22: =IF(A22="","",VLOOKUP(A22,'Hydro Tables'!AE3:AF273,2)) -> 1616 | D22: =IF(A22="","",VLOOKUP(A22,'Hydro Tables'!AE3:AF273,2)) -> 1616 | E22: =D22-C22 -> 0
A24: T 134 | C24: SUNDING
A25: 2200 | C25: =IF(A25="","",VLOOKUP(A25,'Hydro Tables'!AB3:AC280,2)) -> 24
B38: =D4+D6+D7 -> 113.23051 | C38: =E4+E6+E7 -> 105.43161 | E38: =D11+D12 -> 217.253 | F38: =E11+E12 -> 381.262
B39: =B38-C38 -> 7.7989 | E39: =E38-F38 -> -164.009

Sheet Hydro Tables
A1: Fuel Oil 12S+12P | D1: Fuel Oil 14S+14P | G1: FOIL Settling Tk | J1: FOIL Service/Day Tk | M1: Potable Water 6S+6P | P1: Drill Water 13S+15S+13P+15P | S1: Base Oil 24S+24P | V1: Brine 21S+21P | Y1: 134S | AB1: 134S | AE1: 133S
A2: Sounding (m) | B2: Volume (m3) | D2: Sounding (m) | E2: Volume (m3) | G2: Sounding (m) | H2: Volume (m3) | J2: Sounding (m) | K2: Volume (m3) | M2: Sounding (m) | N2: Volume (m3) | P2: Sounding (m) | Q2: Volume (m3) | S2: Sounding (m) | T2: Volume (m3) | V2: Sounding (m) | W2: Volume (m3) | Y2: Sounding (m) | Z2: Volume (m3) | AB2: Volume (m3) | AC2: Sounding (m) | AE2: Volume (m3) | AF2: Sounding (m)
A3: 0 | B3: 0 | D3: 0 | E3: 0 | G3: 0 | H3: 0 | J3: 0 | K3: 0 | M3: 0 | N3: 0 | P3: 0 | Q3: 0 | S3: 0 | T3: 0 | V3: 0 | W3: 0 | Y3: 0 | Z3: 0 | AB3: 0 | AC3: 0 | AE3: 0 | AF3: 0
A4: 0.01 | B4: 0.75 | D4: 0.01 | E4: 1.013 | G4: 0.01 | H4: 0.144 | J4: 0.01 | K4: 0.1197 | M4: 0.01 | N4: 0.327 | P4: 0.01 | Q4: 0.76 | S4: 0.01 | T4: 0.138 | V4: 0.01 | W4: 0.406 | Y4: 1 | Z4: 88 | AB4: 88 | AC4: 1 | AE4: 1 | AF4: 31
A5: 0.02 | B5: 1.5 | D5: 0.02 | E5: 2.026 | G5: 0.02 | H5: 0.288 | J5: 0.02 | K5: 0.2394 | M5: 0.02 | N5: 0.654 | P5: 0.02 | Q5: 1.52 | S5: 0.02 | T5: 0.276 | V5: 0.02 | W5: 0.812 | Y5: 2 | Z5: 177 | AB5: 177 | AC5: 2 | AE5: 2 | AF5: 62
A6: 0.03 | B6: 2.25 | D6: 0.03 | E6: 3.039 | G6: 0.03 | H6: 0.432 | J6: 0.03 | K6: 0.3591 | M6: 0.03 | N6: 0.981 | P6: 0.03 | Q6: 2.28 | S6: 0.03 | T6: 0.414 | V6: 0.03 | W6: 1.218 | Y6: 3 | Z6: 265 | AB6: 265 | AC6: 3 | AE6: 3 | AF6: 93
A7: 0.04 | B7: 3 | D7: 0.04 | E7: 4.052 | G7: 0.04 | H7: 0.576 | J7: 0.04 | K7: 0.4788 | M7: 0.04 | N7: 1.308 | P7: 0.04 | Q7: 3.04 | S7: 0.04 | T7: 0.552 | V7: 0.04 | W7: 1.624 | Y7: 4 | Z7: 354 | AB7: 354 | AC7: 4 | AE7: 4 | AF7: 124
A8: 0.05 | B8: 3.75 | D8: 0.05 | E8: 5.065 | G8: 0.05 | H8: 0.72 | J8: 0.05 | K8: 0.5985 | M8: 0.05 | N8: 1.635 | P8: 0.05 | Q8: 3.8 | S8: 0.05 | T8: 0.69 | V8: 0.05 | W8: 2.03 | Y8: 5 | Z8: 442 | AB8: 442 | AC8: 5 | AE8: 5 | AF8: 155
A9: 0.06 | B9: 4.5 | D9: 0.06 | E9: 6.078 | G9: 0.06 | H9: 0.864 | J9: 0.06 | K9: 0.7182 | M9: 0.06 | N9: 1.962 | P9: 0.06 | Q9: 4.56 | S9: 0.06 | T9: 0.828 | V9: 0.06 | W9: 2.436 | Y9: 6 | Z9: 531 | AB9: 531 | AC9: 6 | AE9: 6 | AF9: 186
A10: 0.07 | B10: 5.25 | D10: 0.07 | E10: 7.091 | G10: 0.07 | H10: 1.008 | J10: 0.07 | K10: 0.8379 | M10: 0.07 | N10: 2.289 | P10: 0.07 | Q10: 5.32 | S10: 0.07 | T10: 0.966 | V10: 0.07 | W10: 2.842 | Y10: 7 | Z10: 62 | AB10: 620 | AC10: 7 | AE10: 7 | AF10: 217
A11: 0.08 | B11: 6 | D11: 0.08 | E11: 8.104 | G11: 0.08 | H11: 1.152 | J11: 0.08 | K11: 0.9576 | M11: 0.08 | N11: 2.616 | P11: 0.08 | Q11: 6.08 | S11: 0.08 | T11: 1.104 | V11: 0.08 | W11: 3.248 | Y11: 8 | Z11: 708 | AB11: 708 | AC11: 8 | AE11: 8 | AF11: 248
A12: 0.09 | B12: 6.75 | D12: 0.09 | E12: 9.117 | G12: 0.09 | H12: 1.296 | J12: 0.09 | K12: 1.0773 | M12: 0.09 | N12: 2.943 | P12: 0.09 | Q12: 6.84 | S12: 0.09 | T12: 1.242 | V12: 0.09 | W12: 3.654 | Y12: 9 | Z12: 797 | AB12: 797 | AC12: 9 | AE12: 9 | AF12: 279
A13: 0.1 | B13: 7.5 | D13: 0.1 | E13: 10.13 | G13: 0.1 | H13: 1.44 | J13: 0.1 | K13: 1.197 | M13: 0.1 | N13: 3.27 | P13: 0.1 | Q13: 7.6 | S13: 0.1 | T13: 1.38 | V13: 0.1 | W13: 4.06 | Y13: 10 | Z13: 886 | AB13: 886 | AC13: 10 | AE13: 10 | AF13: 310
A14: 0.11 | B14: 8.27 | D14: 0.11 | E14: 11.177 | G14: 0.11 | H14: 1.583 | J14: 0.11 | K14: 1.3167 | M14: 0.11 | N14: 3.596 | P14: 0.11 | Q14: 8.388 | S14: 0.11 | T14: 1.518 | V14: 0.11 | W14: 4.467 | Y14: 11 | Z14: 974 | AB14: 974 | AC14: 11 | AE14: 11 | AF14: 341
... A72: 0.69 | B72: 54.68 | D72: 0.69 | E72: 74.059 | G72: 0.69 | H72: 9.907 | J72: 0.69 | K72: 8.2593 | M72: 0.69 | N72: 22.543 | P72: 0.69 | Q72: 55.546 | S72: 0.69 | T72: 9.532 | V72: 0.69 | W72: 28.043 | Y72: 69 | Z72: 6113 | AB72: 6113 | AC72: 69 | AE72: 69 | AF72: 2144
A73: 0.7 | B73: 55.5 | D73: 0.7 | E73: 75.17 | G73: 0.7 | H73: 10.05 | J73: 0.7 | K73: 8.379 | M73: 0.7 | N73: 22.87 | P73: 0.7 | Q73: 56.38 | S73: 0.7 | T73: 9.67 | V73: 0.7 | W73: 28.45 | Y73: 70 | Z73: 6202 | AA73: 6.202 | AB73: 6202 | AC73: 70 | AE73: 70 | AF73: 2176
A74: 0.71 | B74: 56.33 | D74: 0.71 | E74: 76.289 | G74: 0.71 | H74: 10.194 | J74: 0.71 | K74: 8.4987 | M74: 0.71 | N74: 23.197 | P74: 0.71 | Q74: 57.219 | S74: 0.71 | T74: 9.809 | V74: 0.71 | W74: 28.856 | Y74: 71 | Z74: 6290 | AB74: 6290 | AC74: 71 | AE74: 71 | AF74: 2207
A75: 0.72 | B75: 57.16 | D75: 0.72 | E75: 77.408 | G75: 0.72 | H75: 10.338 | J75: 0.72 | K75: 8.6184 | M75: 0.72 | N75: 23.524 | P75: 0.72 | Q75: 58.058 | S75: 0.72 | T75: 9.948 | V75: 0.72 | W75: 29.262 | Y75: 72 | Z75: 6379 | AB75: 6379 | AC75: 72 | AE75: 72 | AF75: 2238
A76: 0.73 | B76: 57.99 | D76: 0.73 | E76: 78.527 | G76: 0.73 | H76: 10.482 | J76: 0.73 | K76: 8.7381 | M76: 0.73 | N76: 23.851 | P76: 0.73 | Q76: 58.897 | S76: 0.73 | T76: 10.087 | V76: 0.73 | W76: 29.668 | Y76: 73 | Z76: 6467 | AB76: 6467 | AC76: 73 | AE76: 73 | AF76: 2269
A77: 0.74 | B77: 58.82 | D77: 0.74 | E77: 79.646 | G77: 0.74 | H77: 10.626 | J77: 0.74 | K77: 8.8578 | M77: 0.74 | N77: 24.178 | P77: 0.74 | Q77: 59.736 | S77: 0.74 | T77: 10.226 | V77: 0.74 | W77: 30.074 | Y77: 74 | Z77: 6556 | AB77: 6556 | AC77: 74 | AE77: 74 | AF77: 2300
A78: 0.75 | B78: 59.65 | D78: 0.75 | E78: 80.765 | G78: 0.75 | H78: 10.77 | J78: 0.75 | K78: 8.9775 | M78: 0.75 | N78: 24.505 | P78: 0.75 | Q78: 60.575 | S78: 0.75 | T78: 10.365 | V78: 0.75 | W78: 30.48 | Y78: 75 | Z78: 6645 | AB78: 6645 | AC78: 75 | AE78: 75 | AF78: 2331
A79: 0.76 | B79: 60.48 | D79: 0.76 | E79: 81.884 | G79: 0.76 | H79: 10.914 | J79: 0.76 | K79: 9.0972 | M79: 0.76 | N79: 24.832 | P79: 0.76 | Q79: 61.414 | S79: 0.76 | T79: 10.504 | V79: 0.76 | W79: 30.886 | Y79: 76 | Z79: 6733 | AB79: 6733 | AC79: 76 | AE79: 76 | AF79: 2362
A80: 0.77 | B80: 61.31 | D80: 0.77 | E80: 83.003 | G80: 0.77 | H80: 11.058 | J80: 0.77 | K80: 9.2169 | M80: 0.77 | N80: 25.159 | P80: 0.77 | Q80: 62.253 | S80: 0.77 | T80: 10.643 | V80: 0.77 | W80: 31.292 | Y80: 77 | Z80: 6822 | AB80: 6822 | AC80: 77 | AE80: 77 | AF80: 2393
A81: 0.78 | B81: 62.14 | D81: 0.78 | E81: 84.122 | G81: 0.78 | H81: 11.202 | J81: 0.78 | K81: 9.3366 | M81: 0.78 | N81: 25.486 | P81: 0.78 | Q81: 63.092 | S81: 0.78 | T81: 10.782 | V81: 0.78 | W81: 31.698 | Y81: 78 | Z81: 6910 | AB81: 6910 | AC81: 78 | AE81: 78 | AF81: 2424
A82: 0.79 | B82: 62.97 | D82: 0.79 | E82: 85.241 | G82: 0.79 | H82: 11.346 | J82: 0.79 | K82: 9.4563 | M82: 0.79 | N82: 25.813 | P82: 0.79 | Q82: 63.931 | S82: 0.79 | T82: 10.921 | V82: 0.79 | W82: 32.104 | Y82: 79 | Z82: 6999 | AB82: 6999 | AC82: 79 | AE82: 79 | AF82: 2455
A83: 0.8 | B83: 63.8 | D83: 0.8 | E83: 86.36 | G83: 0.8 | H83: 11.49 | J83: 0.8 | K83: 9.576 | M83: 0.8 | N83: 26.14 | P83: 0.8 | Q83: 64.77 | S83: 0.8 | T83: 11.06 | V83: 0.8 | W83: 32.51 | Y83: 80 | Z83: 7088 | AB83: 7088 | AC83: 80 | AE83: 80 | AF83: 2487
A84: 0.81 | B84: 64.63 | D84: 0.81 | E84: 87.484 | G84: 0.81 | H84: 11.634 | J84: 0.81 | K84: 9.6957 | M84: 0.81 | N84: 26.466 | P84: 0.81 | Q84: 65.613 | S84: 0.81 | T84: 11.198 | V84: 0.81 | W84: 32.917 | Y84: 81 | Z84: 7176 | AB84: 7176 | AC84: 81 | AE84: 81 | AF84: 2518
A85: 0.82 | B85: 65.46 | D85: 0.82 | E85: 88.608 | G85: 0.82 | H85: 11.778 | J85: 0.82 | K85: 9.8154 | M85: 0.82 | N85: 26.792 | P85: 0.82 | Q85: 66.456 | S85: 0.82 | T85: 11.336 | V85: 0.82 | W85: 33.324 | Y85: 82 | Z85: 7265 | AB85: 7265 | AC85: 82 | AE85: 82 | AF85: 2549
... A203: 2 | B203: 152.6 | D203: 2 | E203: 206.51 | G203: 2 | H203: 28.73 | J203: 2 | K203: 23.94 | M203: 2 | N203: 65.34 | P203: 2 | Q203: 166.79 | S203: 2 | T203: 27.63 | V203: 2 | W203: 81.28 | Y203: 200 | Z203: 17721 | AB203: 17721 | AC203: 200 | AE203: 200 | AF203: 6218
A204: 2.01 | B204: 153.25 | D204: 2.01 | E204: 207.402 | G204: 2.01 | H204: 28.873 | J204: 2.01 | K204: 24.0597 | M204: 2.01 | N204: 65.667 | P204: 2.01 | Q204: 167.642 | S204: 2.01 | T204: 27.769 | V204: 2.01 | W204: 81.686 | Y204: 201 | AC204: 201 | AE204: 201 | AF204: 6249
A205: 2.02 | B205: 153.9 | D205: 2.02 | E205: 208.294 | G205: 2.02 | H205: 29.016 | J205: 2.02 | K205: 24.1794 | M205: 2.02 | N205: 65.994 | P205: 2.02 | Q205: 168.494 | S205: 2.02 | T205: 27.908 | V205: 2.02 | W205: 82.092 | Y205: 202 | AC205: 202 | AE205: 202 | AF205: 6280
A206: 2.03 | B206: 154.55 | D206: 2.03 | E206: 209.186 | G206: 2.03 | H206: 29.159 | J206: 2.03 | K206: 24.2991 | M206: 2.03 | N206: 66.321 | P206: 2.03 | Q206: 169.346 | S206: 2.03 | T206: 28.047 | V206: 2.03 | W206: 82.498 | Y206: 203 | AC206: 203 | AE206: 203 | AF206: 6311
A207: 2.04 | B207: 155.2 | D207: 2.04 | E207: 210.078 | G207: 2.04 | H207: 29.302 | J207: 2.04 | K207: 24.4188 | M207: 2.04 | N207: 66.648 | P207: 2.04 | Q207: 170.198 | S207: 2.04 | T207: 28.186 | V207: 2.04 | W207: 82.904 | Y207: 204 | AC207: 204 | AE207: 204 | AF207: 6342
A208: 2.05 | B208: 155.85 | D208: 2.05 | E208: 210.97 | G208: 2.05 | H208: 29.445 | J208: 2.05 | K208: 24.5385 | M208: 2.05 | N208: 66.975 | P208: 2.05 | Q208: 171.05 | S208: 2.05 | T208: 28.325 | V208: 2.05 | W208: 83.31 | Y208: 205 | AC208: 205 | AE208: 205 | AF208: 6373
A209: 2.06 | B209: 156.5 | D209: 2.06 | E209: 211.862 | G209: 2.06 | H209: 29.588 | J209: 2.06 | K209: 24.6582 | M209: 2.06 | N209: 67.302 | P209: 2.06 | Q209: 171.902 | S209: 2.06 | T209: 28.464 | V209: 2.06 | W209: 83.716 | Y209: 206 | AC209: 206 | AE209: 206 | AF209: 6404
A210: 2.07 | B210: 157.15 | D210: 2.07 | E210: 212.754 | G210: 2.07 | H210: 29.731 | J210: 2.07 | K210: 24.7779 | M210: 2.07 | N210: 67.629 | P210: 2.07 | Q210: 172.754 | S210: 2.07 | T210: 28.603 | V210: 2.07 | W210: 84.122 | Y210: 207 | AC210: 207 | AE210: 207 | AF210: 6435
A211: 2.08 | B211: 157.8 | D211: 2.08 | E211: 213.646 | G211: 2.08 | H211: 29.874 | J211: 2.08 | K211: 24.8976 | M211: 2.08 | N211: 67.956 | P211: 2.08 | Q211: 173.606 | S211: 2.08 | T211: 28.742 | V211: 2.08 | W211: 84.528 | Y211: 208 | AC211: 208 | AE211: 208 | AF211: 6466
A212: 2.09 | B212: 158.45 | D212: 2.09 | E212: 214.538 | G212: 2.09 | H212: 30.017 | J212: 2.09 | K212: 25.0173 | M212: 2.09 | N212: 68.283 | P212: 2.09 | Q212: 174.458 | S212: 2.09 | T212: 28.881 | V212: 2.09 | W212: 84.934 | Y212: 209 | AC212: 209 | AE212: 209 | AF212: 6497
A213: 2.1 | B213: 159.1 | D213: 2.1 | E213: 215.42 | G213: 2.1 | H213: 30.16 | J213: 2.1 | K213: 25.137 | M213: 2.1 | N213: 68.61 | P213: 2.1 | Q213: 175.31 | S213: 2.1 | T213: 29.02 | V213: 2.1 | W213: 85.34 | Y213: 210 | Z213: 18607 | AB213: 18.607 | AC213: 210 | AE213: 210 | AF213: 6529
A214: 2.11 | B214: 159.76 | D214: 2.11 | E214: 216.311 | G214: 2.11 | H214: 30.304 | J214: 2.11 | K214: 25.2567 | M214: 2.11 | N214: 68.936 | P214: 2.11 | Q214: 176.162 | S214: 2.11 | T214: 29.158 | V214: 2.11 | W214: 85.747 | Y214: 211 | AC214: 211 | AE214: 211 | AF214: 6560
...
