Workbook

Sheet Liquid Bulk 
A1: Tank | B1: INIT Sounding | C1: FINAL Sounding | D1: TOTAL beafor | E1: TOTAL after | F1: RECIVED
B2: Metres | C2: Metres | D2: mt | E2: mt | F2: mt | G2: mt
A3: FUEL OIL
A4: 14S | B4: 0.81 | C4: 0.81 | D4: =(IF(B4="","",VLOOKUP(B4,'Hydro Tables'!D3:E753,2)))*0.835 -> 73.04914 | E4: =(IF(C4="","",VLOOKUP(C4,'Hydro Tables'!D3:E753,2)))*0.835 -> 73.04914 | F4: =E4-D4 -> 0 | G4: =F4 -> 0
A5: 14p | B5: 0.01 | C5: 0.01 | D5: =(IF(B5="","",VLOOKUP(B5,'Hydro Tables'!D4:E754,2))*0.835) -> 0.845855 | E5: =(IF(C5="","",VLOOKUP(C5,'Hydro Tables'!D4:E754,2)))*0.835 -> 0.845855 | F5: =E5-D5 -> 0 | G5: =F5 -> 0
A6: Settling | B6: 2 | C6: 1.35 | D6: =(IF(B6="","", VLOOKUP(B6,'Hydro Tables'!G3:H273,2)))*0.835 -> 23.98955 | E6: =(IF(C6="","", VLOOKUP(C6,'Hydro Tables'!G3:H273,2)))*0.835 -> 16.19065 | F6: =E6-D6 -> -7.7989 | G6: =F6*0.835 -> -6.5120815
A7: Service | B7: 1.62 | C7: 1.62 | D7: =(IF(B7="","", VLOOKUP(B7,'Hydro Tables'!J3:K273,2)))*0.835 -> 16.191819 | E7: =(IF(C7="","", VLOOKUP(C7,'Hydro Tables'!J3:K273,2)))*0.835 -> 16.191819 | F7: =E7-D7 -> 0 | G7: =F7*0.835 -> 0
A8: TOTAL RECIVED | F8: =ABS(G4) -> 0
A9: TOTAL | F9: =E4+E6+E7 -> 105.43161
A10: POTABEL WATER
A11: 6S | B11: 5.12 | C11: 5.85 | D11: =IF(B11="","",VLOOKUP(B11,'Hydro Tables'!M3:N618,2)) -> 167.272 | E11: =IF(C11="","",VLOOKUP(C11,'Hydro Tables'!M3:N618,2)) -> 191.12 | F11: =E11-D11 -> 23.848 | S11: =D4+D6+D7 -> 113.23051
A12: 6P | B12: 1.53 | C12: 5.82 | D12: =IF(B12="","",VLOOKUP(B12,'Hydro Tables'!M3:N618,2)) -> 49.981 | E12: =IF(C12="","",VLOOKUP(C12,'Hydro Tables'!M3:N618,2)) -> 190.142 | F12: =E12-D12 -> 140.161
A13: TOTAL RECIVED | F13: =F11+F12 -> 164.009
A14: TOTAL | F14: =E11+E12 -> 381.262
A16: T 133 S STORAG
A17: IN | B17: FIN | C17: IN | D17: FIN | E17: TOTAL
A18: 53 | B18: 53 | C18: =IF(A18="","",VLOOKUP(A18,'Hydro Tables'!Y3:Z280,2)) -> 4695 | D18: =IF(B18="","",VLOOKUP(B18,'Hydro Tables'!Y3:Z280,2)) -> 4695 | E18: =D18-C18 -> 0
A20: T 133 S STORAG
A21: IN | B21: FIN | C21: IN | D21: FIN | E21: TOTAL
A22: 52 | B22: 52 | C22: =IF(A22="","",VLOOKUP(A22,'Hydro Tables'!AE3:AF273,2)) -> 1616 | D22: =IF(A22="","",VLOOKUP(A22,'Hydro Tables'!AE3:AF273,2)) -> 1616 | E22: =D22-C22 -> 0
A24: T 134 | C24: SUNDING
A25: 2200 | C25: =IF(A25="","",VLOOKUP(A25,'Hydro Tables'!AB3:AC280,2)) -> 24
B38: =D4+D6+D7 -> 113.23051 | C38: =E4+E6+E7 -> 105.43161 | E38: =D11+D12 -> 217.253 | F38: =E11+E12 -> 381.262
B39: =B38-C38 -> 7.7989 | E39: =E38-F38 -> -164.009

Sheet Hydro Tables
A1: Fuel Oil 12S+12P | D1: Fuel Oil 14S+14P | G1: FOIL Settling Tk | J1: FOIL Service/Day Tk | M1: Potable Water 6S+6P | P1: Drill Water 13S+15S+13P+15P | S1: Base Oil 24S+24P | V1: Brine 21S+21P | Y1: 134S | AB1: 134S | AE1: 133S
A2: Sounding (m) | B2: Volume (m3) | D2: Sounding (m) | E2: Volume (m3) | G2: Sounding (m) | H2: Volume (m3) | J2: Sounding (m) | K2: Volume (m3) | M2: Sounding (m) | N2: Volume (m3) | P2: Sounding (m) | Q2: Volume (m3) | S2: Sounding (m) | T2: Volume (m3) | V2: Sounding (m) | W2: Volume (m3) | Y2: Sounding (m) | Z2: Volume (m3) | AB2: Volume (m3) | AC2: Sounding (m) | AE2: Volume (m3) | AF2: Sounding (m)
A3: 0 | B3: 0 | D3: 0 | E3: 0 | G3: 0 | H3: 0 | J3: 0 | K3: 0 | M3: 0 | N3: 0 | P3: 0 | Q3: 0 | S3: 0 | T3: 0 | V3: 0 | W3: 0 | Y3: 0 | Z3: 0 | AB3: 0 | AC3: 0 | AE3: 0 | AF3: 0
A4: 0.01 | B4: 0.75 | D4: 0.01 | E4: 1.013 | G4: 0.01 | H4: 0.144 | J4: 0.01 | K4: 0.1197 | M4: 0.01 | N4: 0.327 | P4: 0.01 | Q4: 0.76 | S4: 0.01 | T4: 0.138 | V4: 0.01 | W4: 0.406 | Y4: 1 | Z4: 88 | AB4: 88 | AC4: 1 | AE4: 1 | AF4: 31
A5: 0.02 | B5: 1.5 | D5: 0.02 | E5: 2.026 | G5: 0.02 | H5: 0.288 | J5: 0.02 | K5: 0.2394 | M5: 0.02 | N5: 0.654 | P5: 0.02 | Q5: 1.52 | S5: 0.02 | T5: 0.276 | V5: 0.02 | W5: 0.812 | Y5: 2 | Z5: 177 | AB5: 177 | AC5: 2 | AE5: 2 | AF5: 62
A6: 0.03 | B6: 2.25 | D6: 0.03 | E6: 3.039 | G6: 0.03 | H6: 0.432 | J6: 0.03 | K6: 0.3591 | M6: 0.03 | N6: 0.981 | P6: 0.03 | Q6: 2.28 | S6: 0.03 | T6: 0.414 | V6: 0.03 | W6: 1.218 | Y6: 3 | Z6: 265 | AB6: 265 | AC6: 3 | AE6: 3 | AF6: 93
A7: 0.04 | B7: 3 | D7: 0.04 | E7: 4.052 | G7: 0.04 | H7: 0.576 | J7: 0.04 | K7: 0.4788 | M7: 0.04 | N7: 1.308 | P7: 0.04 | Q7: 3.04 | S7: 0.04 | T7: 0.552 | V7: 0.04 | W7: 1.624 | Y7: 4 | Z7: 354 | AB7: 354 | AC7: 4 | AE7: 4 | AF7: 124
A8: 0.05 | B8: 3.75 | D8: 0.05 | E8: 5.065 | G8: 0.05 | H8: 0.72 | J8: 0.05 | K8: 0.5985 | M8: 0.05 | N8: 1.635 | P8: 0.05 | Q8: 3.8 | S8: 0.05 | T8: 0.69 | V8: 0.05 | W8: 2.03 | Y8: 5 | Z8: 442 | AB8: 442 | AC8: 5 | AE8: 5 | AF8: 155
A9: 0.06 | B9: 4.5 | D9: 0.06 | E9: 6.078 | G9: 0.06 | H9: 0.864 | J9: 0.06 | K9: 0.7182 | M9: 0.06 | N9: 1.962 | P9: 0.06 | Q9: 4.56 | S9: 0.06 | T9: 0.828 | V9: 0.06 | W9: 2.436 | Y9: 6 | Z9: 531 | AB9: 531 | AC9: 6 | AE9: 6 | AF9: 186
A10: 0.07 | B10: 5.25 | D10: 0.07 | E10: 7.091 | G10: 0.07 | H10: 1.008 | J10: 0.07 | K10: 0.8379 | M10: 0.07 | N10: 2.289 | P10: 0.07 | Q10: 5.32 | S10: 0.07 | T10: 0.966 | V10: 0.07 | W10: 2.842 | Y10: 7 | Z10: 62 | AB10: 620 | AC10: 7 | AE10: 7 | AF10: 217
A11: 0.08 | B11: 6 | D11: 0.08 | E11: 8.104 | G11: 0.08 | H11: 1.152 | J11: 0.08 | K11: 0.9576 | M11: 0.08 | N11: 2.616 | P11: 0.08 | Q11: 6.08 | S11: 0.08 | T11: 1.104 | V11: 0.08 | W11: 3.248 | Y11: 8 | Z11: 708 | AB11: 708 | AC11: 8 | AE11: 8 | AF11: 248
A12: 0.09 | B12: 6.75 | D12: 0.09 | E12: 9.117 | G12: 0.09 | H12: 1.296 | J12: 0.09 | K12: 1.0773 | M12: 0.09 | N12: 2.943 | P12: 0.09 | Q12: 6.84 | S12: 0.09 | T12: 1.242 | V12: 0.09 | W12: 3.654 | Y12: 9 | Z12: 797 | AB12: 797 | AC12: 9 | AE12: 9 | AF12: 279
A13: 0.1 | B13: 7.5 | D13: 0.1 | E13: 10.13 | G13: 0.1 | H13: 1.44 | J13: 0.1 | K13: 1.197 | M13: 0.1 | N13: 3.27 | P13: 0.1 | Q13: 7.6 | S13: 0.1 | T13: 1.38 | V13: 0.1 | W13: 4.06 | Y13: 10 | Z13: 886 | AB13: 886 | AC13: 10 | AE13: 10 | AF13: 310
A14: 0.11 | B14: 8.27 | D14: 0.11 | E14: 11.177 | G14: 0.11 | H14: 1.583 | J14: 0.11 | K14: 1.3167 | M14: 0.11 | N14: 3.596 | P14: 0.11 | Q14: 8.388 | S14: 0.11 | T14: 1.518 | V14: 0.11 | W14: 4.467 | Y14: 11 | Z14: 974 | AB14: 974 | AC14: 11 | AE14: 11 | AF14: 341
... A72: 0.69 | B72: 54.68 | D72: 0.69 | E72: 74.059 | G72: 0.69 | H72: 9.907 | J72: 0.69 | K72: 8.2593 | M72: 0.69 | N72: 22.543 | P72: 0.69 | Q72: 55.546 | S72: 0.69 | T72: 9.532 | V72: 0.69 | W72: 28.043 | Y72: 69 | Z72: 6113 | AB72: 6113 | AC72: 69 | AE72: 69 | AF72: 2144
A73: 0.7 | B73: 55.5 | D73: 0.7 | E73: 75.17 | G73: 0.7 | H73: 10.05 | J73: 0.7 | K73: 8.379 | M73: 0.7 | N73: 22.87 | P73: 0.7 | Q73: 56.38 | S73: 0.7 | T73: 9.67 | V73: 0.7 | W73: 28.45 | Y73: 70 | Z73: 6202 | AA73: 6.202 | AB73: 6202 | AC73: 70 | AE73: 70 | AF73: 2176
A74: 0.71 | B74: 56.33 | D74: 0.71 | E74: 76.289 | G74: 0.71 | H74: 10.194 | J74: 0.71 | K74: 8.4987 | M74: 0.71 | N74: 23.197 | P74: 0.71 | Q74: 57.219 | S74: 0.71 | T74: 9.809 | V74: 0.71 | W74: 28.856 | Y74: 71 | Z74: 6290 | AB74: 6290 | AC74: 71 | AE74: 71 | AF74: 2207
A75: 0.72 | B75: 57.16 | D75: 0.72 | E75: 77.408 | G75: 0.72 | H75: 10.338 | J75: 0.72 | K75: 8.6184 | M75: 0.72 | N75: 23.524 | P75: 0.72 | Q75: 58.058 | S75: 0.72 | T75: 9.948 | V75: 0.72 | W75: 29.262 | Y75: 72 | Z75: 6379 | AB75: 6379 | AC75: 72 | AE75: 72 | AF75: 2238
A76: 0.73 | B76: 57.99 | D76: 0.73 | E76: 78.527 | G76: 0.73 | H76: 10.482 | J76: 0.73 | K76: 8.7381 | M76: 0.73 | N76: 23.851 | P76: 0.73 | Q76: 58.897 | S76: 0.73 | T76: 10.087 | V76: 0.73 | W76: 29.668 | Y76: 73 | Z76: 6467 | AB76: 6467 | AC76: 73 | AE76: 73 | AF76: 2269
A77: 0.74 | B77: 58.82 | D77: 0.74 | E77: 79.646 | G77: 0.74 | H77: 10.626 | J77: 0.74 | K77: 8.8578 | M77: 0.74 | N77: 24.178 | P77: 0.74 | Q77: 59.736 | S77: 0.74 | T77: 10.226 | V77: 0.74 | W77: 30.074 | Y77: 74 | Z77: 6556 | AB77: 6556 | AC77: 74 | AE77: 74 | AF77: 2300
A78: 0.75 | B78: 59.65 | D78: 0.75 | E78: 80.765 | G78: 0.75 | H78: 10.77 | J78: 0.75 | K78: 8.9775 | M78: 0.75 | N78: 24.505 | P78: 0.75 | Q78: 60.575 | S78: 0.75 | T78: 10.365 | V78: 0.75 | W78: 30.48 | Y78: 75 | Z78: 6645 | AB78: 6645 | AC78: 75 | AE78: 75 | AF78: 2331
A79: 0.76 | B79: 60.48 | D79: 0.76 | E79: 81.884 | G79: 0.76 | H79: 10.914 | J79: 0.76 | K79: 9.0972 | M79: 0.76 | N79: 24.832 | P79: 0.76 | Q79: 61.414 | S79: 0.76 | T79: 10.504 | V79: 0.76 | W79: 30.886 | Y79: 76 | Z79: 6733 | AB79: 6733 | AC79: 76 | AE79: 76 | AF79: 2362
A80: 0.77 | B80: 61.31 | D80: 0.77 | E80: 83.003 | G80: 0.77 | H80: 11.058 | J80: 0.77 | K80: 9.2169 | M80: 0.77 | N80: 25.159 | P80: 0.77 | Q80: 62.253 | S80: 0.77 | T80: 10.643 | V80: 0.77 | W80: 31.292 | Y80: 77 | Z80: 6822 | AB80: 6822 | AC80: 77 | AE80: 77 | AF80: 2393
A81: 0.78 | B81: 62.14 | D81: 0.78 | E81: 84.122 | G81: 0.78 | H81: 11.202 | J81: 0.78 | K81: 9.3366 | M81: 0.78 | N81: 25.486 | P81: 0.78 | Q81: 63.092 | S81: 0.78 | T81: 10.782 | V81: 0.78 | W81: 31.698 | Y81: 78 | Z81: 6910 | AB81: 6910 | AC81: 78 | AE81: 78 | AF81: 2424
A82: 0.79 | B82: 62.97 | D82: 0.79 | E82: 85.241 | G82: 0.79 | H82: 11.346 | J82: 0.79 | K82: 9.4563 | M82: 0.79 | N82: 25.813 | P82: 0.79 | Q82: 63.931 | S82: 0.79 | T82: 10.921 | V82: 0.79 | W82: 32.104 | Y82: 79 | Z82: 6999 | AB82: 6999 | AC82: 79 | AE82: 79 | AF82: 2455
A83: 0.8 | B83: 63.8 | D83: 0.8 | E83: 86.36 | G83: 0.8 | H83: 11.49 | J83: 0.8 | K83: 9.576 | M83: 0.8 | N83: 26.14 | P83: 0.8 | Q83: 64.77 | S83: 0.8 | T83: 11.06 | V83: 0.8 | W83: 32.51 | Y83: 80 | Z83: 7088 | AB83: 7088 | AC83: 80 | AE83: 80 | AF83: 2487
A84: 0.81 | B84: 64.63 | D84: 0.81 | E84: 87.484 | G84: 0.81 | H84: 11.634 | J84: 0.81 | K84: 9.6957 | M84: 0.81 | N84: 26.466 | P84: 0.81 | Q84: 65.613 | S84: 0.81 | T84: 11.198 | V84: 0.81 | W84: 32.917 | Y84: 81 | Z84: 7176 | AB84: 7176 | AC84: 81 | AE84: 81 | AF84: 2518
A85: 0.82 | B85: 65.46 | D85: 0.82 | E85: 88.608 | G85: 0.82 | H85: 11.778 | J85: 0.82 | K85: 9.8154 | M85: 0.82 | N85: 26.792 | P85: 0.82 | Q85: 66.456 | S85: 0.82 | T85: 11.336 | V85: 0.82 | W85: 33.324 | Y85: 82 | Z85: 7265 | AB85: 7265 | AC85: 82 | AE85: 82 | AF85: 2549
... A203: 2 | B203: 152.6 | D203: 2 | E203: 206.51 | G203: 2 | H203: 28.73 | J203: 2 | K203: 23.94 | M203: 2 | N203: 65.34 | P203: 2 | Q203: 166.79 | S203: 2 | T203: 27.63 | V203: 2 | W203: 81.28 | Y203: 200 | Z203: 17721 | AB203: 17721 | AC203: 200 | AE203: 200 | AF203: 6218
A204: 2.01 | B204: 153.25 | D204: 2.01 | E204: 207.402 | G204: 2.01 | H204: 28.873 | J204: 2.01 | K204: 24.0597 | M204: 2.01 | N204: 65.667 | P204: 2.01 | Q204: 167.642 | S204: 2.01 | T204: 27.769 | V204: 2.01 | W204: 81.686 | Y204: 201 | AC204: 201 | AE204: 201 | AF204: 6249
A205: 2.02 | B205: 153.9 | D205: 2.02 | E205: 208.294 | G205: 2.02 | H205: 29.016 | J205: 2.02 | K205: 24.1794 | M205: 2.02 | N205: 65.994 | P205: 2.02 | Q205: 168.494 | S205: 2.02 | T205: 27.908 | V205: 2.02 | W205: 82.092 | Y205: 202 | AC205: 202 | AE205: 202 | AF205: 6280
A206: 2.03 | B206: 154.55 | D206: 2.03 | E206: 209.186 | G206: 2.03 | H206: 29.159 | J206: 2.03 | K206: 24.2991 | M206: 2.03 | N206: 66.321 | P206: 2.03 | Q206: 169.346 | S206: 2.03 | T206: 28.047 | V206: 2.03 | W206: 82.498 | Y206: 203 | AC206: 203 | AE206: 203 | AF206: 6311
A207: 2.04 | B207: 155.2 | D207: 2.04 | E207: 210.078 | G207: 2.04 | H207: 29.302 | J207: 2.04 | K207: 24.4188 | M207: 2.04 | N207: 66.648 | P207: 2.04 | Q207: 170.198 | S207: 2.04 | T207: 28.186 | V207: 2.04 | W207: 82.904 | Y207: 204 | AC207: 204 | AE207: 204 | AF207: 6342
A208: 2.05 | B208: 155.85 | D208: 2.05 | E208: 210.97 | G208: 2.05 | H208: 29.445 | J208: 2.05 | K208: 24.5385 | M208: 2.05 | N208: 66.975 | P208: 2.05 | Q208: 171.05 | S208: 2.05 | T208: 28.325 | V208: 2.05 | W208: 83.31 | Y208: 205 | AC208: 205 | AE208: 205 | AF208: 6373
A209: 2.06 | B209: 156.5 | D209: 2.06 | E209: 211.862 | G209: 2.06 | H209: 29.588 | J209: 2.06 | K209: 24.6582 | M209: 2.06 | N209: 67.302 | P209: 2.06 | Q209: 171.902 | S209: 2.06 | T209: 28.464 | V209: 2.06 | W209: 83.716 | Y209: 206 | AC209: 206 | AE209: 206 | AF209: 6404
A210: 2.07 | B210: 157.15 | D210: 2.07 | E210: 212.754 | G210: 2.07 | H210: 29.731 | J210: 2.07 | K210: 24.7779 | M210: 2.07 | N210: 67.629 | P210: 2.07 | Q210: 172.754 | S210: 2.07 | T210: 28.603 | V210: 2.07 | W210: 84.122 | Y210: 207 | AC210: 207 | AE210: 207 | AF210: 6435
A211: 2.08 | B211: 157.8 | D211: 2.08 | E211: 213.646 | G211: 2.08 | H211: 29.874 | J211: 2.08 | K211: 24.8976 | M211: 2.08 | N211: 67.956 | P211: 2.08 | Q211: 173.606 | S211: 2.08 | T211: 28.742 | V211: 2.08 | W211: 84.528 | Y211: 208 | AC211: 208 | AE211: 208 | AF211: 6466
A212: 2.09 | B212: 158.45 | D212: 2.09 | E212: 214.538 | G212: 2.09 | H212: 30.017 | J212: 2.09 | K212: 25.0173 | M212: 2.09 | N212: 68.283 | P212: 2.09 | Q212: 174.458 | S212: 2.09 | T212: 28.881 | V212: 2.09 | W212: 84.934 | Y212: 209 | AC212: 209 | AE212: 209 | AF212: 6497
A213: 2.1 | B213: 159.1 | D213: 2.1 | E213: 215.42 | G213: 2.1 | H213: 30.16 | J213: 2.1 | K213: 25.137 | M213: 2.1 | N213: 68.61 | P213: 2.1 | Q213: 175.31 | S213: 2.1 | T213: 29.02 | V213: 2.1 | W213: 85.34 | Y213: 210 | Z213: 18607 | AB213: 18.607 | AC213: 210 | AE213: 210 | AF213: 6529
A214: 2.11 | B214: 159.76 | D214: 2.11 | E214: 216.311 | G214: 2.11 | H214: 30.304 | J214: 2.11 | K214: 25.2567 | M214: 2.11 | N214: 68.936 | P214: 2.11 | Q214: 176.162 | S214: 2.11 | T214: 29.158 | V214: 2.11 | W214: 85.747 | Y214: 211 | AC214: 211 | AE214: 211 | AF214: 6560
A215: 2.12 | B215: 160.42 | D215: 2.12 | E215: 217.202 | G215: 2.12 | H215: 30.448 | J215: 2.12 | K215: 25.3764 | M215: 2.12 | N215: 69.262 | P215: 2.12 | Q215: 177.014 | S215: 2.12 | T215: 29.296 | V215: 2.12 | W215: 86.154 | Y215: 212 | AC215: 212 | AE215: 212 | AF215: 6591
A216: 2.13 | B216: 161.08 | D216: 2.13 | E216: 218.093 | G216: 2.13 | H216: 30.592 | J216: 2.13 | K216: 25.4961 | M216: 2.13 | N216: 69.588 | P216: 2.13 | Q216: 177.866 | S216: 2.13 | T216: 29.434 | V216: 2.13 | W216: 86.561 | Y216: 213 | AC216: 213 | AE216: 213 | AF216: 6622
A217: 2.14 | B217: 161.74 | D217: 2.14 | E217: 218.984 | G217: 2.14 | H217: 30.736 | J217: 2.14 | K217: 25.6158 | M217: 2.14 | N217: 69.914 | P217: 2.14 | Q217: 178.718 | S217: 2.14 | T217: 29.572 | V217: 2.14 | W217: 86.968 | Y217: 214 | AC217: 214 | AE217: 214 | AF217: 6653
A218: 2.15 | B218: 162.4 | D218: 2.15 | E218: 219.875 | G218: 2.15 | H218: 30.88 | J218: 2.15 | K218: 25.7355 | M218: 2.15 | N218: 70.24 | P218: 2.15 | Q218: 179.57 | S218: 2.15 | T218: 29.71 | V218: 2.15 | W218: 87.375 | Y218: 215 | AC218: 215 | AE218: 215 | AF218: 6684
A219: 2.16 | B219: 163.06 | D219: 2.16 | E219: 220.766 | G219: 2.16 | H219: 31.024 | J219: 2.16 | K219: 25.8552 | M219: 2.16 | N219: 70.566 | P219: 2.16 | Q219: 180.422 | S219: 2.16 | T219: 29.848 | V219: 2.16 | W219: 87.782 | Y219: 216 | AC219: 216 | AE219: 216 | AF219: 6715
A220: 2.17 | B220: 163.72 | D220: 2.17 | E220: 221.657 | G220: 2.17 | H220: 31.168 | J220: 2.17 | K220: 25.9749 | M220: 2.17 | N220: 70.892 | P220: 2.17 | Q220: 181.274 | S220: 2.17 | T220: 29.986 | V220: 2.17 | W220: 88.189 | Y220: 217 | AC220: 217 | AE220: 217 | AF220: 6746
A221: 2.18 | B221: 164.38 | D221: 2.18 | E221: 222.548 | G221: 2.18 | H221: 31.312 | J221: 2.18 | K221: 26.0946 | M221: 2.18 | N221: 71.218 | P221: 2.18 | Q221: 182.126 | S221: 2.18 | T221: 30.124 | V221: 2.18 | W221: 88.596 | Y221: 218 | AC221: 218 | AE221: 218 | AF221: 6777
A222: 2.19 | B222: 165.04 | D222: 2.19 | E222: 223.439 | G222: 2.19 | H222: 31.456 | J222: 2.19 | K222: 26.2143 | M222: 2.19 | N222: 71.544 | P222: 2.19 | Q222: 182.978 | S222: 2.19 | T222: 30.262 | V222: 2.19 | W222: 89.003 | Y222: 219 | AC222: 219 | AE222: 219 | AF222: 6808
A223: 2.2 | B223: 165.7 | D223: 2.2 | E223: 224.33 | G223: 2.2 | H223: 31.6 | J223: 2.2 | K223: 26.334 | M223: 2.2 | N223: 71.87 | P223: 2.2 | Q223: 183.83 | S223: 2.2 | T223: 30.4 | V223: 2.2 | W223: 89.41 | Y223: 220 | Z223: 19494 | AB223: 19.494 | AC223: 220 | AE223: 220 | AF223: 6839
A224: 2.21 | B224: 166.36 | D224: 2.21 | E224: 225.221 | G224: 2.21 | H224: 31.743 | J224: 2.21 | K224: 26.4537 | M224: 2.21 | N224: 72.197 | P224: 2.21 | Q224: 184.682 | S224: 2.21 | T224: 30.538 | V224: 2.21 | W224: 89.816 | Y224: 221 | AC224: 221 | AE224: 221 | AF224: 6870
A225: 2.22 | B225: 167.02 | D225: 2.22 | E225: 226.112 | G225: 2.22 | H225: 31.886 | J225: 2.22 | K225: 26.5734 | M225: 2.22 | N225: 72.524 | P225: 2.22 | Q225: 185.534 | S225: 2.22 | T225: 30.676 | V225: 2.22 | W225: 90.222 | Y225: 222 | AC225: 222 | AE225: 222 | AF225: 6901
A226: 2.23 | B226: 167.68 | D226: 2.23 | E226: 227.003 | G226: 2.23 | H226: 32.029 | J226: 2.23 | K226: 26.6931 | M226: 2.23 | N226: 72.851 | P226: 2.23 | Q226: 186.386 | S226: 2.23 | T226: 30.814 | V226: 2.23 | W226: 90.628 | Y226: 223 | AC226: 223 | AE226: 223 | AF226: 6932
A227: 2.24 | B227: 168.34 | D227: 2.24 | E227: 227.894 | G227: 2.24 | H227: 32.172 | J227: 2.24 | K227: 26.8128 | M227: 2.24 | N227: 73.178 | P227: 2.24 | Q227: 187.238 | S227: 2.24 | T227: 30.952 | V227: 2.24 | W227: 91.034 | Y227: 224 | AC227: 224 | AE227: 224 | AF227: 6963
A228: 2.25 | B228: 169 | D228: 2.25 | E228: 228.785 | G228: 2.25 | H228: 32.315 | J228: 2.25 | K228: 26.9325 | M228: 2.25 | N228: 73.505 | P228: 2.25 | Q228: 188.09 | S228: 2.25 | T228: 31.09 | V228: 2.25 | W228: 91.44 | Y228: 225 | AC228: 225 | AE228: 225 | AF228: 6994
A229: 2.26 | B229: 169.66 | D229: 2.26 | E229: 229.676 | G229: 2.26 | H229: 32.458 | J229: 2.26 | K229: 27.0522 | M229: 2.26 | N229: 73.832 | P229: 2.26 | Q229: 188.942 | S229: 2.26 | T229: 31.228 | V229: 2.26 | W229: 91.846 | Y229: 226 | AC229: 226 | AE229: 226 | AF229: 7025
A230: 2.27 | B230: 170.32 | D230: 2.27 | E230: 230.567 | G230: 2.27 | H230: 32.601 | J230: 2.27 | K230: 27.1719 | M230: 2.27 | N230: 74.159 | P230: 2.27 | Q230: 189.794 | S230: 2.27 | T230: 31.366 | V230: 2.27 | W230: 92.252 | Y230: 227 | AC230: 227 | AE230: 227 | AF230: 7056
A231: 2.28 | B231: 170.98 | D231: 2.28 | E231: 231.458 | G231: 2.28 | H231: 32.744 | J231: 2.28 | K231: 27.2916 | M231: 2.28 | N231: 74.486 | P231: 2.28 | Q231: 190.646 | S231: 2.28 | T231: 31.504 | V231: 2.28 | W231: 92.658 | Y231: 228 | AC231: 228 | AE231: 228 | AF231: 7087
A232: 2.29 | B232: 171.64 | D232: 2.29 | E232: 232.349 | G232: 2.29 | H232: 32.887 | J232: 2.29 | K232: 27.4113 | M232: 2.29 | N232: 74.813 | P232: 2.29 | Q232: 191.498 | S232: 2.29 | T232: 31.642 | V232: 2.29 | W232: 93.064 | Y232: 229 | AC232: 229 | AE232: 229 | AF232: 7118
A233: 2.3 | B233: 172.3 | D233: 2.3 | E233: 233.25 | G233: 2.3 | H233: 33.03 | J233: 2.3 | K233: 27.531 | M233: 2.3 | N233: 75.14 | P233: 2.3 | Q233: 192.35 | S233: 2.3 | T233: 31.78 | V233: 2.3 | W233: 93.47 | Y233: 230 | Z233: 2038 | AB233: 20.38 | AC233: 230 | AE233: 230 | AF233: 7150
A234: 2.31 | B234: 172.96 | D234: 2.31 | E234: 234.141 | G234: 2.31 | H234: 33.174 | J234: 2.31 | K234: 27.6507 | M234: 2.31 | N234: 75.467 | P234: 2.31 | Q234: 193.202 | S234: 2.31 | T234: 31.919 | V234: 2.31 | W234: 93.877 | Y234: 231 | AC234: 231 | AE234: 231 | AF234: 7181
A235: 2.32 | B235: 173.62 | D235: 2.32 | E235: 235.032 | G235: 2.32 | H235: 33.318 | J235: 2.32 | K235: 27.7704 | M235: 2.32 | N235: 75.794 | P235: 2.32 | Q235: 194.054 | S235: 2.32 | T235: 32.058 | V235: 2.32 | W235: 94.284 | Y235: 232 | AC235: 232 | AE235: 232 | AF235: 7212
A236: 2.33 | B236: 174.28 | D236: 2.33 | E236: 235.923 | G236: 2.33 | H236: 33.462 | J236: 2.33 | K236: 27.8901 | M236: 2.33 | N236: 76.121 | P236: 2.33 | Q236: 194.906 | S236: 2.33 | T236: 32.197 | V236: 2.33 | W236: 94.691 | Y236: 233 | AC236: 233 | AE236: 233 | AF236: 7243
A237: 2.34 | B237: 174.94 | D237: 2.34 | E237: 236.814 | G237: 2.34 | H237: 33.606 | J237: 2.34 | K237: 28.0098 | M237: 2.34 | N237: 76.448 | P237: 2.34 | Q237: 195.758 | S237: 2.34 | T237: 32.336 | V237: 2.34 | W237: 95.098 | Y237: 234 | AC237: 234 | AE237: 234 | AF237: 7274
A238: 2.35 | B238: 175.6 | D238: 2.35 | E238: 237.705 | G238: 2.35 | H238: 33.75 | J238: 2.35 | K238: 28.1295 | M238: 2.35 | N238: 76.775 | P238: 2.35 | Q238: 196.61 | S238: 2.35 | T238: 32.475 | V238: 2.35 | W238: 95.505 | Y238: 235 | AC238: 235 | AE238: 235 | AF238: 7305
A239: 2.36 | B239: 176.26 | D239: 2.36 | E239: 238.596 | G239: 2.36 | H239: 33.894 | J239: 2.36 | K239: 28.2492 | M239: 2.36 | N239: 77.102 | P239: 2.36 | Q239: 197.462 | S239: 2.36 | T239: 32.614 | V239: 2.36 | W239: 95.912 | Y239: 236 | AC239: 236 | AE239: 236 | AF239: 7336
A240: 2.37 | B240: 176.92 | D240: 2.37 | E240: 239.487 | G240: 2.37 | H240: 34.038 | J240: 2.37 | K240: 28.3689 | M240: 2.37 | N240: 77.429 | P240: 2.37 | Q240: 198.314 | S240: 2.37 | T240: 32.753 | V240: 2.37 | W240: 96.319 | Y240: 237 | AC240: 237 | AE240: 237 | AF240: 7367
A241: 2.38 | B241: 177.58 | D241: 2.38 | E241: 240.378 | G241: 2.38 | H241: 34.182 | J241: 2.38 | K241: 28.4886 | M241: 2.38 | N241: 77.756 | P241: 2.38 | Q241: 199.166 | S241: 2.38 | T241: 32.892 | V241: 2.38 | W241: 96.726 | Y241: 238 | AC241: 238 | AE241: 238 | AF241: 7398
A242: 2.39 | B242: 178.24 | D242: 2.39 | E242: 241.269 | G242: 2.39 | H242: 34.326 | J242: 2.39 | K242: 28.6083 | M242: 2.39 | N242: 78.083 | P242: 2.39 | Q242: 200.018 | S242: 2.39 | T242: 33.031 | V242: 2.39 | W242: 97.133 | Y242: 239 | AC242: 239 | AE242: 239 | AF242: 7429
A243: 2.4 | B243: 178.9 | D243: 2.4 | E243: 242.16 | G243: 2.4 | H243: 34.47 | J243: 2.4 | K243: 28.728 | M243: 2.4 | N243: 78.41 | P243: 2.4 | Q243: 200.87 | S243: 2.4 | T243: 33.17 | V243: 2.4 | W243: 97.54 | Y243: 240 | Z243: 21266 | AB243: 21.266 | AC243: 240 | AE243: 240 | AF243: 7461
A244: 2.41 | B244: 179.56 | D244: 2.41 | E244: 243.051 | G244: 2.41 | H244: 34.614 | J244: 2.41 | K244: 28.8477 | M244: 2.41 | N244: 78.737 | P244: 2.41 | Q244: 201.722 | S244: 2.41 | T244: 33.308 | V244: 2.41 | W244: 97.946 | Y244: 241 | AC244: 241 | AE244: 241 | AF244: 7492
A245: 2.42 | B245: 180.22 | D245: 2.42 | E245: 243.942 | G245: 2.42 | H245: 34.758 | J245: 2.42 | K245: 28.9674 | M245: 2.42 | N245: 79.064 | P245: 2.42 | Q245: 202.574 | S245: 2.42 | T245: 33.446 | V245: 2.42 | W245: 98.352 | Y245: 242 | AC245: 242 | AE245: 242 | AF245: 7523
A246: 2.43 | B246: 180.88 | D246: 2.43 | E246: 244.833 | G246: 2.43 | H246: 34.902 | J246: 2.43 | K246: 29.0871 | M246: 2.43 | N246: 79.391 | P246: 2.43 | Q246: 203.426 | S246: 2.43 | T246: 33.584 | V246: 2.43 | W246: 98.758 | Y246: 243 | AC246: 243 | AE246: 243 | AF246: 7554
A247: 2.44 | B247: 181.54 | D247: 2.44 | E247: 245.724 | G247: 2.44 | H247: 35.046 | J247: 2.44 | K247: 29.2068 | M247: 2.44 | N247: 79.718 | P247: 2.44 | Q247: 204.278 | S247: 2.44 | T247: 33.722 | V247: 2.44 | W247: 99.164 | Y247: 244 | AC247: 244 | AE247: 244 | AF247: 7585
A248: 2.45 | B248: 182.2 | D248: 2.45 | E248: 246.615 | G248: 2.45 | H248: 35.19 | J248: 2.45 | K248: 29.3265 | M248: 2.45 | N248: 80.045 | P248: 2.45 | Q248: 205.13 | S248: 2.45 | T248: 33.86 | V248: 2.45 | W248: 99.57 | Y248: 245 | AC248: 245 | AE248: 245 | AF248: 7616
A249: 2.46 | B249: 182.86 | D249: 2.46 | E249: 247.506 | G249: 2.46 | H249: 35.334 | J249: 2.46 | K249: 29.4462 | M249: 2.46 | N249: 80.372 | P249: 2.46 | Q249: 205.982 | S249: 2.46 | T249: 33.998 | V249: 2.46 | W249: 99.976 | Y249: 246 | AC249: 246 | AE249: 246 | AF249: 7647
A250: 2.47 | B250: 183.52 | D250: 2.47 | E250: 248.397 | G250: 2.47 | H250: 35.478 | J250: 2.47 | K250: 29.5659 | M250: 2.47 | N250: 80.699 | P250: 2.47 | Q250: 206.834 | S250: 2.47 | T250: 34.136 | V250: 2.47 | W250: 100.382 | Y250: 247 | AC250: 247 | AE250: 247 | AF250: 7678
A251: 2.48 | B251: 184.18 | D251: 2.48 | E251: 249.288 | G251: 2.48 | H251: 35.622 | J251: 2.48 | K251: 29.6856 | M251: 2.48 | N251: 81.026 | P251: 2.48 | Q251: 207.686 | S251: 2.48 | T251: 34.274 | V251: 2.48 | W251: 100.788 | Y251: 248 | AC251: 248 | AE251: 248 | AF251: 7709
A252: 2.49 | B252: 184.84 | D252: 2.49 | E252: 250.179 | G252: 2.49 | H252: 35.766 | J252: 2.49 | K252: 29.8053 | M252: 2.49 | N252: 81.353 | P252: 2.49 | Q252: 208.538 | S252: 2.49 | T252: 34.412 | V252: 2.49 | W252: 101.194 | Y252: 249 | AC252: 249 | AE252: 249 | AF252: 7740
A253: 2.5 | B253: 185.5 | D253: 2.5 | E253: 251.07 | G253: 2.5 | H253: 35.91 | J253: 2.5 | K253: 29.925 | M253: 2.5 | N253: 81.68 | P253: 2.5 | Q253: 209.39 | S253: 2.5 | T253: 34.55 | V253: 2.5 | W253: 101.6 | Y253: 250 | Z253: 22152 | AB253: 22.152 | AC253: 250 | AE253: 250 | AF253: 7772
A254: 2.51 | B254: 186.16 | D254: 2.51 | E254: 251.961 | G254: 2.51 | H254: 36.054 | J254: 2.51 | K254: 30.0447 | M254: 2.51 | N254: 82.006 | P254: 2.51 | Q254: 210.242 | S254: 2.51 | T254: 34.688 | V254: 2.51 | W254: 102.006 | Y254: 251 | AC254: 251 | AE254: 251 | AF254: 7803
A255: 2.52 | B255: 186.82 | D255: 2.52 | E255: 252.852 | G255: 2.52 | H255: 36.198 | J255: 2.52 | K255: 30.1644 | M255: 2.52 | N255: 82.332 | P255: 2.52 | Q255: 211.094 | S255: 2.52 | T255: 34.826 | V255: 2.52 | W255: 102.412 | Y255: 252 | AC255: 252 | AE255: 252 | AF255: 7834
A256: 2.53 | B256: 187.48 | D256: 2.53 | E256: 253.743 | G256: 2.53 | H256: 36.342 | J256: 2.53 | K256: 30.2841 | M256: 2.53 | N256: 82.658 | P256: 2.53 | Q256: 211.946 | S256: 2.53 | T256: 34.964 | V256: 2.53 | W256: 102.818 | Y256: 253 | AC256: 253 | AE256: 253 | AF256: 7865
A257: 2.54 | B257: 188.14 | D257: 2.54 | E257: 254.634 | G257: 2.54 | H257: 36.486 | J257: 2.54 | K257: 30.4038 | M257: 2.54 | N257: 82.984 | P257: 2.54 | Q257: 212.798 | S257: 2.54 | T257: 35.102 | V257: 2.54 | W257: 103.224 | Y257: 254 | AC257: 254 | AE257: 254 | AF257: 7896
A258: 2.55 | B258: 188.8 | D258: 2.55 | E258: 255.525 | G258: 2.55 | H258: 36.63 | J258: 2.55 | K258: 30.5235 | M258: 2.55 | N258: 83.31 | P258: 2.55 | Q258: 213.65 | S258: 2.55 | T258: 35.24 | V258: 2.55 | W258: 103.63 | Y258: 255 | AC258: 255 | AE258: 255 | AF258: 7927
A259: 2.56 | B259: 189.46 | D259: 2.56 | E259: 256.416 | G259: 2.56 | H259: 36.774 | J259: 2.56 | K259: 30.6432 | M259: 2.56 | N259: 83.636 | P259: 2.56 | Q259: 214.502 | S259: 2.56 | T259: 35.378 | V259: 2.56 | W259: 104.036 | Y259: 256 | AC259: 256 | AE259: 256 | AF259: 7958
A260: 2.57 | B260: 190.12 | D260: 2.57 | E260: 257.307 | G260: 2.57 | H260: 36.918 | J260: 2.57 | K260: 30.7629 | M260: 2.57 | N260: 83.962 | P260: 2.57 | Q260: 215.354 | S260: 2.57 | T260: 35.516 | V260: 2.57 | W260: 104.442 | Y260: 257 | AC260: 257 | AE260: 257 | AF260: 7989
A261: 2.58 | B261: 190.78 | D261: 2.58 | E261: 258.198 | G261: 2.58 | H261: 37.062 | J261: 2.58 | K261: 30.8826 | M261: 2.58 | N261: 84.288 | P261: 2.58 | Q261: 216.206 | S261: 2.58 | T261: 35.654 | V261: 2.58 | W261: 104.848 | Y261: 258 | AC261: 258 | AE261: 258 | AF261: 8020
A262: 2.59 | B262: 191.44 | D262: 2.59 | E262: 259.089 | G262: 2.59 | H262: 37.206 | J262: 2.59 | K262: 31.0023 | M262: 2.59 | N262: 84.614 | P262: 2.59 | Q262: 217.058 | S262: 2.59 | T262: 35.792 | V262: 2.59 | W262: 105.254 | Y262: 259 | AC262: 259 | AE262: 259 | AF262: 8051
A263: 2.6 | B263: 192.1 | D263: 2.6 | E263: 260 | G263: 2.6 | H263: 37.35 | J263: 2.6 | K263: 31.122 | M263: 2.6 | N263: 84.94 | P263: 2.6 | Q263: 217.91 | S263: 2.6 | T263: 35.93 | V263: 2.6 | W263: 105.66 | Y263: 260 | Z263: 23038 | AB263: 23038 | AC263: 260 | AE263: 260 | AF263: 8083
A264: 2.61 | B264: 192.75 | D264: 2.61 | E264: 260.89 | G264: 2.61 | H264: 37.493 | J264: 2.61 | K264: 31.2417 | M264: 2.61 | N264: 85.267 | P264: 2.61 | Q264: 218.762 | S264: 2.61 | T264: 36.068 | V264: 2.61 | W264: 106.067 | Y264: 261 | AC264: 261 | AE264: 261 | AF264: 8114
A265: 2.62 | B265: 193.335 | D265: 2.62 | E265: 261.78 | G265: 2.62 | H265: 37.6217 | J265: 2.62 | K265: 31.3614 | M265: 2.62 | N265: 85.5613 | P265: 2.62 | Q265: 219.5288 | S265: 2.62 | T265: 36.1922 | V265: 2.62 | W265: 106.4333 | Y265: 262 | AC265: 262 | AE265: 262 | AF265: 8145
A266: 2.63 | B266: 193.8615 | D266: 2.63 | E266: 262.67 | G266: 2.63 | H266: 37.73753 | J266: 2.63 | K266: 31.4811 | M266: 2.63 | N266: 85.82617 | P266: 2.63 | Q266: 220.21892 | S266: 2.63 | T266: 36.30398 | V266: 2.63 | W266: 106.76297 | Y266: 263 | AC266: 263 | AE266: 263 | AF266: 8176
A267: 2.64 | B267: 194.33535 | D267: 2.64 | E267: 263.56 | G267: 2.64 | H267: 37.841777 | J267: 2.64 | K267: 31.6008 | M267: 2.64 | N267: 86.064553 | P267: 2.64 | Q267: 220.84003 | S267: 2.64 | T267: 36.404582 | V267: 2.64 | W267: 107.05967 | Y267: 264 | AC267: 264 | AE267: 264 | AF267: 8207
A268: 2.65 | B268: 194.76182 | D268: 2.65 | E268: 264.45 | G268: 2.65 | H268: 37.935599 | J268: 2.65 | K268: 31.7205 | M268: 2.65 | N268: 86.279098 | P268: 2.65 | Q268: 221.39903 | S268: 2.65 | T268: 36.495124 | V268: 2.65 | W268: 107.32671 | Y268: 265 | AC268: 265 | AE268: 265 | AF268: 8238
A269: 2.66 | B269: 195.14563 | D269: 2.66 | E269: 265.34 | G269: 2.66 | H269: 38.020039 | J269: 2.66 | K269: 31.8402 | M269: 2.66 | N269: 86.472188 | P269: 2.66 | Q269: 221.90212 | S269: 2.66 | T269: 36.576611 | V269: 2.66 | W269: 107.56704 | Y269: 266 | AC269: 266 | AE269: 266 | AF269: 8269
A270: 2.67 | B270: 195.49107 | D270: 2.67 | E270: 266.23 | G270: 2.67 | H270: 38.096035 | J270: 2.67 | K270: 31.9599 | M270: 2.67 | N270: 86.645969 | P270: 2.67 | Q270: 222.35491 | S270: 2.67 | T270: 36.64995 | V270: 2.67 | W270: 107.78333 | Y270: 267 | AC270: 267 | AE270: 267 | AF270: 8300
A271: 2.68 | B271: 195.80196 | D271: 2.68 | E271: 267.12 | G271: 2.68 | H271: 38.164432 | J271: 2.68 | K271: 32.0796 | M271: 2.68 | N271: 86.802372 | P271: 2.68 | Q271: 222.76242 | S271: 2.68 | T271: 36.715955 | V271: 2.68 | W271: 107.978 | Y271: 268 | AC271: 268 | AE271: 268 | AF271: 8331
A272: 2.69 | B272: 196.08177 | D272: 2.69 | E272: 268.01 | G272: 2.69 | H272: 38.225989 | J272: 2.69 | K272: 32.1993 | M272: 2.69 | N272: 86.943135 | P272: 2.69 | Q272: 223.12918 | S272: 2.69 | T272: 36.77536 | V272: 2.69 | W272: 108.1532 | Y272: 269 | AC272: 269 | AE272: 269 | AF272: 8362
A273: 2.7 | B273: 198.6 | D273: 2.7 | E273: 268.9 | G273: 2.7 | H273: 38.78 | J273: 2.7 | K273: 32.319 | M273: 2.7 | N273: 88.21 | P273: 2.7 | Q273: 226.43 | S273: 2.7 | T273: 37.31 | V273: 2.7 | W273: 109.73 | Y273: 270 | AC273: 270 | AE273: 270 | AF273: 8394
A274: 2.71 | B274: 199.26 | D274: 2.71 | E274: 269.79 | M274: 2.71 | N274: 88.537 | P274: 2.71 | Q274: 227.282 | S274: 2.71 | T274: 37.637 | V274: 2.71 | W274: 110.136 | Y274: 271 | AC274: 271
...
